BEGIN:VCALENDAR
VERSION:2.0
PRODID:-//Eagan MN - ECPv6.15.15//NONSGML v1.0//EN
CALSCALE:GREGORIAN
METHOD:PUBLISH
X-WR-CALNAME:Eagan MN
X-ORIGINAL-URL:https://enjoyeagan.com
X-WR-CALDESC:Events for Eagan MN
REFRESH-INTERVAL;VALUE=DURATION:PT1H
X-Robots-Tag:noindex
X-PUBLISHED-TTL:PT1H
BEGIN:VTIMEZONE
TZID:UTC
BEGIN:STANDARD
TZOFFSETFROM:+0000
TZOFFSETTO:+0000
TZNAME:UTC
DTSTART:20250101T000000
END:STANDARD
END:VTIMEZONE
BEGIN:VEVENT
DTSTART;VALUE=DATE:20260213
DTEND;VALUE=DATE:20260927
DTSTAMP:20260422T020020
CREATED:20251203T171755Z
LAST-MODIFIED:20251203T171755Z
UID:10000113-1770940800-1790467199@enjoyeagan.com
SUMMARY:Guys and Dolls
DESCRIPTION:For the first time in over 35 years Chanhassen Dinner Theatres brings you a thrilling and electric staging of Guys and Dolls! From the gritty streets of New York to the colorful cafes of Havana\, Guys and Dolls is a grand spectacle of music and comedy to delight audiences of all ages. This fresh production is set in Damon Runyon’s mythical New York City in a perfect balance of story\, dance\, music and romance!
URL:https://enjoyeagan.com/event/guys-and-dolls/
LOCATION:Chanhassen Dinner Theatres\, 501 W 78th St\, Chanhassen\, MN\, 55317\, United States
CATEGORIES:Family,Food & Drink,music,theatre
ATTACH;FMTTYPE=image/webp:https://enjoyeagan.com/wp-content/uploads/2025/12/Guys-and-Dolls-Logo-final-1.avif
GEO:44.8616283;-93.5341131
X-APPLE-STRUCTURED-LOCATION;VALUE=URI;X-ADDRESS=Chanhassen Dinner Theatres 501 W 78th St Chanhassen MN 55317 United States;X-APPLE-RADIUS=500;X-TITLE=501 W 78th St:geo:-93.5341131,44.8616283
END:VEVENT
BEGIN:VEVENT
DTSTART;VALUE=DATE:20260213
DTEND;VALUE=DATE:20260927
DTSTAMP:20260422T020020
CREATED:20260106T215112Z
LAST-MODIFIED:20260106T215112Z
UID:10000137-1770940800-1790467199@enjoyeagan.com
SUMMARY:Guys and Dolls
DESCRIPTION:For the first time in over 35 years Chanhassen Dinner Theatres brings you a thrilling and electric staging of Guys and Dolls! From the gritty streets of New York to the colorful cafes of Havana\, Guys and Dolls is a grand spectacle of music and comedy to delight audiences of all ages. This fresh production is set in Damon Runyon’s mythical New York City in a perfect balance of story\, dance\, music and romance!
URL:https://enjoyeagan.com/event/guys-and-dolls-2/
LOCATION:Chanhassen Dinner Theatres\, 501 W 78th St\, Chanhassen\, MN\, 55317\, United States
CATEGORIES:Family,Food & Drink,music,theatre
ATTACH;FMTTYPE=image/webp:https://enjoyeagan.com/wp-content/uploads/2026/01/Guys-and-Dolls-at-CDT.webp
GEO:44.8616283;-93.5341131
X-APPLE-STRUCTURED-LOCATION;VALUE=URI;X-ADDRESS=Chanhassen Dinner Theatres 501 W 78th St Chanhassen MN 55317 United States;X-APPLE-RADIUS=500;X-TITLE=501 W 78th St:geo:-93.5341131,44.8616283
END:VEVENT
BEGIN:VEVENT
DTSTART;VALUE=DATE:20260406
DTEND;VALUE=DATE:20260625
DTSTAMP:20260422T020020
CREATED:20260408T191512Z
LAST-MODIFIED:20260408T191512Z
UID:10000186-1775433600-1782345599@enjoyeagan.com
SUMMARY:Bullseye Pistol League
DESCRIPTION:Are you ready for an exhilarating 12-week bullseye pistol shooting competition? Whether you’re a seasoned shooter or just starting\, our league offers an exciting opportunity to test your skills\, make new friends\, and take home trophies. \nThe competition spans 12 weeks\, from April 6th\, 2026\, to June 24th\, 2026\, providing shooters with a 10-week core period and an additional 2 weeks designated for make-up sessions to accommodate any missed shooting dates. Assemble a team of three shooters or opt for our team assignment. Join us in the quest for the bullseye – Let the games begin!
URL:https://enjoyeagan.com/event/bullseye-pistol-league/
LOCATION:Stock & Barrel Gun Club\, 2980 Commers Drive #800\, Eagan\, MN\, 55121\, United States
CATEGORIES:spring
ATTACH;FMTTYPE=image/webp:https://enjoyeagan.com/wp-content/uploads/2026/04/Bullseye-Pistol-League.webp
END:VEVENT
BEGIN:VEVENT
DTSTART;TZID=UTC:20260422T170000
DTEND;TZID=UTC:20260422T200000
DTSTAMP:20260422T020020
CREATED:20260420T163734Z
LAST-MODIFIED:20260420T163841Z
UID:10000191-1776877200-1776888000@enjoyeagan.com
SUMMARY:Bringing Community Together Through Lions Club
DESCRIPTION:Looking for a way to give back and connect locally? Come and see how the Eagan Lions impact our community-and how you can be a part of it. We will have a few organizations that we partner with\, some service projects\, appetizers\, raffle drawing and information available.
URL:https://enjoyeagan.com/event/bringing-community-together-through-lions-club/
LOCATION:Casper’s Cherokee of Eagan\, 4625 Nicols Road\, Eagan\, MN\, 55122\, United States
CATEGORIES:Food & Drink,free,spring
ATTACH;FMTTYPE=image/jpeg:https://enjoyeagan.com/wp-content/uploads/2026/04/Lions-Club-Community-Event.webp
GEO:44.7890069;-93.2191684
X-APPLE-STRUCTURED-LOCATION;VALUE=URI;X-ADDRESS=Casper’s Cherokee of Eagan 4625 Nicols Road Eagan MN 55122 United States;X-APPLE-RADIUS=500;X-TITLE=4625 Nicols Road:geo:-93.2191684,44.7890069
END:VEVENT
END:VCALENDAR