BEGIN:VCALENDAR
VERSION:2.0
PRODID:-//Eagan MN - ECPv6.15.15//NONSGML v1.0//EN
CALSCALE:GREGORIAN
METHOD:PUBLISH
X-WR-CALNAME:Eagan MN
X-ORIGINAL-URL:https://enjoyeagan.com
X-WR-CALDESC:Events for Eagan MN
REFRESH-INTERVAL;VALUE=DURATION:PT1H
X-Robots-Tag:noindex
X-PUBLISHED-TTL:PT1H
BEGIN:VTIMEZONE
TZID:America/Chicago
BEGIN:DAYLIGHT
TZOFFSETFROM:-0600
TZOFFSETTO:-0500
TZNAME:CDT
DTSTART:20240310T080000
END:DAYLIGHT
BEGIN:STANDARD
TZOFFSETFROM:-0500
TZOFFSETTO:-0600
TZNAME:CST
DTSTART:20241103T070000
END:STANDARD
BEGIN:DAYLIGHT
TZOFFSETFROM:-0600
TZOFFSETTO:-0500
TZNAME:CDT
DTSTART:20250309T080000
END:DAYLIGHT
BEGIN:STANDARD
TZOFFSETFROM:-0500
TZOFFSETTO:-0600
TZNAME:CST
DTSTART:20251102T070000
END:STANDARD
BEGIN:DAYLIGHT
TZOFFSETFROM:-0600
TZOFFSETTO:-0500
TZNAME:CDT
DTSTART:20260308T080000
END:DAYLIGHT
BEGIN:STANDARD
TZOFFSETFROM:-0500
TZOFFSETTO:-0600
TZNAME:CST
DTSTART:20261101T070000
END:STANDARD
END:VTIMEZONE
BEGIN:VEVENT
DTSTART;VALUE=DATE:20251101
DTEND;VALUE=DATE:20260101
DTSTAMP:20260419T153126
CREATED:20251110T214535Z
LAST-MODIFIED:20251203T163845Z
UID:10000033-1761955200-1767225599@enjoyeagan.com
SUMMARY:Crayola Experience Handmade Holidays
DESCRIPTION:Deck the halls with tons of COLOR! From November 1 – December 31\, come enjoy holiday fun the Crayola way! Complete a seasonal scavenger hunt\, pose in holiday photo-ops\, and make handmade gifts from the heart! \n-Create a Pop-Up Greeting Card for someone special \n-Paint one-of-a-kind Holiday Ornaments to add some festive flair to your home \n-Mold a Penguin Friend with Model Magic to bring holiday cheer \n-And write a Letter to Santa with all the nice things you’ve done this year \nAll included with general admission.
URL:https://enjoyeagan.com/event/crayola-experience-handmade-holidays/
LOCATION:Crayola Experience\, 300 South Avenue\, Bloomington\, MN\, 55425\, United States
CATEGORIES:art,Family,holiday,Winter
ATTACH;FMTTYPE=image/jpeg:https://enjoyeagan.com/wp-content/uploads/2025/11/Crayola-Experience-Holidays-e1762811087129.avif
END:VEVENT
BEGIN:VEVENT
DTSTART;TZID=America/Chicago:20251122T100000
DTEND;TZID=America/Chicago:20251122T160000
DTSTAMP:20260419T153126
CREATED:20251103T200554Z
LAST-MODIFIED:20251121T213831Z
UID:10000023-1763805600-1763827200@enjoyeagan.com
SUMMARY:Winter Art Sale
DESCRIPTION:
URL:https://enjoyeagan.com/event/winter-art-sale/
LOCATION:MN
CATEGORIES:art,Shopping,Winter
ATTACH;FMTTYPE=image/jpeg:https://enjoyeagan.com/wp-content/uploads/2025/11/Winter-Art-Sale.avif
END:VEVENT
END:VCALENDAR