BEGIN:VCALENDAR
VERSION:2.0
PRODID:-//Eagan MN - ECPv6.15.15//NONSGML v1.0//EN
CALSCALE:GREGORIAN
METHOD:PUBLISH
X-WR-CALNAME:Eagan MN
X-ORIGINAL-URL:https://enjoyeagan.com
X-WR-CALDESC:Events for Eagan MN
REFRESH-INTERVAL;VALUE=DURATION:PT1H
X-Robots-Tag:noindex
X-PUBLISHED-TTL:PT1H
BEGIN:VTIMEZONE
TZID:UTC
BEGIN:STANDARD
TZOFFSETFROM:+0000
TZOFFSETTO:+0000
TZNAME:UTC
DTSTART:20250101T000000
END:STANDARD
END:VTIMEZONE
BEGIN:VEVENT
DTSTART;VALUE=DATE:20260307
DTEND;VALUE=DATE:20260308
DTSTAMP:20260419T151117
CREATED:20260223T175510Z
LAST-MODIFIED:20260223T175510Z
UID:10000169-1772877600-1772899200@enjoyeagan.com
SUMMARY:Sun Country Tropics Days
DESCRIPTION:Grab your sunglasses and Hawaiian shirt\, it’s always sunny and 78 degrees at the Minnesota Zoo! Come feel the spirit of spring break on days full of tropical treats. Get Zoo tickets and warm up your weekends\, February 28 – March 1 and March 7 – 8
URL:https://enjoyeagan.com/event/sun-country-tropics-days/2026-03-07/
LOCATION:Minnesota Zoo\, 13000 Zoo Blvd\, Apple Valley\, MN\, 55124\, United States
CATEGORIES:Family,Outdoors
ATTACH;FMTTYPE=image/jpeg:https://enjoyeagan.com/wp-content/uploads/2026/02/Tropics-Days.webp
GEO:44.7674337;-93.1957707
X-APPLE-STRUCTURED-LOCATION;VALUE=URI;X-ADDRESS=Minnesota Zoo 13000 Zoo Blvd Apple Valley MN 55124 United States;X-APPLE-RADIUS=500;X-TITLE=13000 Zoo Blvd:geo:-93.1957707,44.7674337
END:VEVENT
END:VCALENDAR