BEGIN:VCALENDAR
VERSION:2.0
PRODID:-//Eagan MN - ECPv6.15.15//NONSGML v1.0//EN
CALSCALE:GREGORIAN
METHOD:PUBLISH
X-WR-CALNAME:Eagan MN
X-ORIGINAL-URL:https://enjoyeagan.com
X-WR-CALDESC:Events for Eagan MN
REFRESH-INTERVAL;VALUE=DURATION:PT1H
X-Robots-Tag:noindex
X-PUBLISHED-TTL:PT1H
BEGIN:VTIMEZONE
TZID:UTC
BEGIN:STANDARD
TZOFFSETFROM:+0000
TZOFFSETTO:+0000
TZNAME:UTC
DTSTART:20250101T000000
END:STANDARD
END:VTIMEZONE
BEGIN:VEVENT
DTSTART;TZID=UTC:20260618T190000
DTEND;TZID=UTC:20260618T210000
DTSTAMP:20260419T141420
CREATED:20260304T174332Z
LAST-MODIFIED:20260304T174332Z
UID:10000173-1781809200-1781816400@enjoyeagan.com
SUMMARY:Ladies' Night at Stock & Barrel
DESCRIPTION:Ladies’ Night is a fun and welcoming event offered for women of all skill levels!\nEvery month we explore a new topic for both new and experienced female shooters. MARCH TOPIC: Shooting with Confidence\nWe start with a short educational/training session and then it’s out to the range for some fun. We provide guns for use (ammunition purchased separately).\nWhat To Know For Ladies’ Night:– You must register in advance to attend.– $15 registration fee. Register here!– Firearm rental included– Ammunition not included– 30-45 minutes of classroom time– 2 hour event starting at 7:00 PM
URL:https://enjoyeagan.com/event/ladies-night-at-stock-barrel-4/2026-06-18/
LOCATION:Stock & Barrel Gun Club\, 2980 Commers Drive #800\, Eagan\, MN\, 55121\, United States
ATTACH;FMTTYPE=image/jpeg:https://enjoyeagan.com/wp-content/uploads/2026/03/Ladies-Night-Stock-and-Barrel.webp
END:VEVENT
BEGIN:VEVENT
DTSTART;TZID=UTC:20260716T190000
DTEND;TZID=UTC:20260716T210000
DTSTAMP:20260419T141420
CREATED:20260304T174332Z
LAST-MODIFIED:20260304T174332Z
UID:10000174-1784228400-1784235600@enjoyeagan.com
SUMMARY:Ladies' Night at Stock & Barrel
DESCRIPTION:Ladies’ Night is a fun and welcoming event offered for women of all skill levels!\nEvery month we explore a new topic for both new and experienced female shooters. MARCH TOPIC: Shooting with Confidence\nWe start with a short educational/training session and then it’s out to the range for some fun. We provide guns for use (ammunition purchased separately).\nWhat To Know For Ladies’ Night:– You must register in advance to attend.– $15 registration fee. Register here!– Firearm rental included– Ammunition not included– 30-45 minutes of classroom time– 2 hour event starting at 7:00 PM
URL:https://enjoyeagan.com/event/ladies-night-at-stock-barrel-4/2026-07-16/
LOCATION:Stock & Barrel Gun Club\, 2980 Commers Drive #800\, Eagan\, MN\, 55121\, United States
ATTACH;FMTTYPE=image/jpeg:https://enjoyeagan.com/wp-content/uploads/2026/03/Ladies-Night-Stock-and-Barrel.webp
END:VEVENT
BEGIN:VEVENT
DTSTART;TZID=UTC:20260820T190000
DTEND;TZID=UTC:20260820T210000
DTSTAMP:20260419T141420
CREATED:20260304T174332Z
LAST-MODIFIED:20260304T174332Z
UID:10000175-1787252400-1787259600@enjoyeagan.com
SUMMARY:Ladies' Night at Stock & Barrel
DESCRIPTION:Ladies’ Night is a fun and welcoming event offered for women of all skill levels!\nEvery month we explore a new topic for both new and experienced female shooters. MARCH TOPIC: Shooting with Confidence\nWe start with a short educational/training session and then it’s out to the range for some fun. We provide guns for use (ammunition purchased separately).\nWhat To Know For Ladies’ Night:– You must register in advance to attend.– $15 registration fee. Register here!– Firearm rental included– Ammunition not included– 30-45 minutes of classroom time– 2 hour event starting at 7:00 PM
URL:https://enjoyeagan.com/event/ladies-night-at-stock-barrel-4/2026-08-20/
LOCATION:Stock & Barrel Gun Club\, 2980 Commers Drive #800\, Eagan\, MN\, 55121\, United States
ATTACH;FMTTYPE=image/jpeg:https://enjoyeagan.com/wp-content/uploads/2026/03/Ladies-Night-Stock-and-Barrel.webp
END:VEVENT
END:VCALENDAR