BEGIN:VCALENDAR
VERSION:2.0
PRODID:-//Eagan MN - ECPv6.15.15//NONSGML v1.0//EN
CALSCALE:GREGORIAN
METHOD:PUBLISH
X-WR-CALNAME:Eagan MN
X-ORIGINAL-URL:https://enjoyeagan.com
X-WR-CALDESC:Events for Eagan MN
REFRESH-INTERVAL;VALUE=DURATION:PT1H
X-Robots-Tag:noindex
X-PUBLISHED-TTL:PT1H
BEGIN:VTIMEZONE
TZID:UTC
BEGIN:STANDARD
TZOFFSETFROM:+0000
TZOFFSETTO:+0000
TZNAME:UTC
DTSTART:20250101T000000
END:STANDARD
END:VTIMEZONE
BEGIN:VEVENT
DTSTART;TZID=UTC:20260416T190000
DTEND;TZID=UTC:20260416T210000
DTSTAMP:20260419T143457
CREATED:20260304T174332Z
LAST-MODIFIED:20260304T174332Z
UID:10000172-1776366000-1776373200@enjoyeagan.com
SUMMARY:Ladies' Night at Stock & Barrel
DESCRIPTION:Ladies’ Night is a fun and welcoming event offered for women of all skill levels!\nEvery month we explore a new topic for both new and experienced female shooters. MARCH TOPIC: Shooting with Confidence\nWe start with a short educational/training session and then it’s out to the range for some fun. We provide guns for use (ammunition purchased separately).\nWhat To Know For Ladies’ Night:– You must register in advance to attend.– $15 registration fee. Register here!– Firearm rental included– Ammunition not included– 30-45 minutes of classroom time– 2 hour event starting at 7:00 PM
URL:https://enjoyeagan.com/event/ladies-night-at-stock-barrel-4/2026-04-16/
LOCATION:Stock & Barrel Gun Club\, 2980 Commers Drive #800\, Eagan\, MN\, 55121\, United States
ATTACH;FMTTYPE=image/jpeg:https://enjoyeagan.com/wp-content/uploads/2026/03/Ladies-Night-Stock-and-Barrel.webp
END:VEVENT
BEGIN:VEVENT
DTSTART;VALUE=DATE:20260329
DTEND;VALUE=DATE:20260330
DTSTAMP:20260419T143457
CREATED:20260304T175432Z
LAST-MODIFIED:20260304T175432Z
UID:10000177-1774778400-1774810800@enjoyeagan.com
SUMMARY:Range Madness Tournament at Stock & Barrel
DESCRIPTION:Stock & Barrel invites you to the Range Madness Tournament – a shooting tournament for all!\nThis is a perfect time to shoot your shot and see how you stack up against shooters across the metro. The Range Madness Tournament is open to anyone ages 12 and up\, and we encourage everyone to participate.\nCompetitors will be separated into skill categories\, ensuring a fun and competitive atmosphere for all!\nThe best part? It’s FREE* to enter the challenge and you can qualify for a Final Bracket spot each week! All you need is a 9mm handgun – and if you don’t have your own\, no worries. Stock & Barrel has everything you need on hand.\nTry to secure your spot on the final bracket by getting a top score during the qualifier weeks and then join us for the final bracket tournament and open house on March 29th\, 2026.\nQualifying Week 1: March 2-8 (5 spots available)Qualifying Week 2: March 9-15 (5 spots available)Qualifying Week 3: March 16-22 (6 spots available)\nFinal Bracket Tournament: Sunday\, March 29th\, 2026 – Save the date!
URL:https://enjoyeagan.com/event/range-madness-tournament-at-stock-barrel/2026-03-29/
LOCATION:Stock & Barrel Gun Club\, 2980 Commers Drive #800\, Eagan\, MN\, 55121\, United States
ATTACH;FMTTYPE=image/jpeg:https://enjoyeagan.com/wp-content/uploads/2026/03/Range-Madness-Tournament.webp
END:VEVENT
BEGIN:VEVENT
DTSTART;TZID=UTC:20260323T180000
DTEND;TZID=UTC:20260323T190000
DTSTAMP:20260419T143457
CREATED:20260304T181047Z
LAST-MODIFIED:20260304T181047Z
UID:10000178-1774288800-1774292400@enjoyeagan.com
SUMMARY:Traveling with Firearms Free Seminar
DESCRIPTION:Are you traveling locally or state to state with a firearm? Are you planning to fly to a destination with a firearm? This free seminar will explore the law and best practices when it comes to transporting and/or carrying firearms safely and legally. Bring your travel companions along to learn with you. This seminar is scheduled to last approximately one hour.
URL:https://enjoyeagan.com/event/traveling-with-firearms-free-seminar/
LOCATION:Stock & Barrel Gun Club\, 2980 Commers Drive #800\, Eagan\, MN\, 55121\, United States
ATTACH;FMTTYPE=image/jpeg:https://enjoyeagan.com/wp-content/uploads/2026/03/Traveling-with-Firearms.webp
END:VEVENT
BEGIN:VEVENT
DTSTART;TZID=UTC:20260319T190000
DTEND;TZID=UTC:20260319T210000
DTSTAMP:20260419T143457
CREATED:20260304T174332Z
LAST-MODIFIED:20260304T174332Z
UID:10000171-1773946800-1773954000@enjoyeagan.com
SUMMARY:Ladies' Night at Stock & Barrel
DESCRIPTION:Ladies’ Night is a fun and welcoming event offered for women of all skill levels!\nEvery month we explore a new topic for both new and experienced female shooters. MARCH TOPIC: Shooting with Confidence\nWe start with a short educational/training session and then it’s out to the range for some fun. We provide guns for use (ammunition purchased separately).\nWhat To Know For Ladies’ Night:– You must register in advance to attend.– $15 registration fee. Register here!– Firearm rental included– Ammunition not included– 30-45 minutes of classroom time– 2 hour event starting at 7:00 PM
URL:https://enjoyeagan.com/event/ladies-night-at-stock-barrel-4/2026-03-19/
LOCATION:Stock & Barrel Gun Club\, 2980 Commers Drive #800\, Eagan\, MN\, 55121\, United States
ATTACH;FMTTYPE=image/jpeg:https://enjoyeagan.com/wp-content/uploads/2026/03/Ladies-Night-Stock-and-Barrel.webp
END:VEVENT
BEGIN:VEVENT
DTSTART;VALUE=DATE:20260302
DTEND;VALUE=DATE:20260323
DTSTAMP:20260419T143457
CREATED:20260304T175432Z
LAST-MODIFIED:20260304T175432Z
UID:10000176-1772409600-1774223999@enjoyeagan.com
SUMMARY:Range Madness Tournament at Stock & Barrel
DESCRIPTION:Stock & Barrel invites you to the Range Madness Tournament – a shooting tournament for all!\nThis is a perfect time to shoot your shot and see how you stack up against shooters across the metro. The Range Madness Tournament is open to anyone ages 12 and up\, and we encourage everyone to participate.\nCompetitors will be separated into skill categories\, ensuring a fun and competitive atmosphere for all!\nThe best part? It’s FREE* to enter the challenge and you can qualify for a Final Bracket spot each week! All you need is a 9mm handgun – and if you don’t have your own\, no worries. Stock & Barrel has everything you need on hand.\nTry to secure your spot on the final bracket by getting a top score during the qualifier weeks and then join us for the final bracket tournament and open house on March 29th\, 2026.\nQualifying Week 1: March 2-8 (5 spots available)Qualifying Week 2: March 9-15 (5 spots available)Qualifying Week 3: March 16-22 (6 spots available)\nFinal Bracket Tournament: Sunday\, March 29th\, 2026 – Save the date!
URL:https://enjoyeagan.com/event/range-madness-tournament-at-stock-barrel/2026-03-02/
LOCATION:Stock & Barrel Gun Club\, 2980 Commers Drive #800\, Eagan\, MN\, 55121\, United States
ATTACH;FMTTYPE=image/jpeg:https://enjoyeagan.com/wp-content/uploads/2026/03/Range-Madness-Tournament.webp
END:VEVENT
END:VCALENDAR